BEGIN:VCALENDAR
VERSION:2.0
PRODID:-//Vilino - Country House - ECPv5.9.0//NONSGML v1.0//EN
CALSCALE:GREGORIAN
METHOD:PUBLISH
X-WR-CALNAME:Vilino - Country House
X-ORIGINAL-URL:http://vilino.rs
X-WR-CALDESC:Events for Vilino - Country House
BEGIN:VTIMEZONE
TZID:Europe/Belgrade
BEGIN:DAYLIGHT
TZOFFSETFROM:+0100
TZOFFSETTO:+0200
TZNAME:CEST
DTSTART:20200329T010000
END:DAYLIGHT
BEGIN:STANDARD
TZOFFSETFROM:+0200
TZOFFSETTO:+0100
TZNAME:CET
DTSTART:20201025T010000
END:STANDARD
END:VTIMEZONE
BEGIN:VEVENT
DTSTART;VALUE=DATE:20200619
DTEND;VALUE=DATE:20200622
DTSTAMP:20260424T155240
CREATED:20200602T165233Z
LAST-MODIFIED:20200602T165233Z
UID:1978-1592524800-1592783999@vilino.rs
SUMMARY:Yoga retreat
DESCRIPTION:Psihologija Tela
URL:http://vilino.rs/event/yoga-retreat-4/
LOCATION:Vilino ESTATE\, Serbia
CATEGORIES:Yoga Retreat
END:VEVENT
END:VCALENDAR