BEGIN:VCALENDAR
VERSION:2.0
PRODID:-//Vilino - Country House - ECPv5.9.0//NONSGML v1.0//EN
CALSCALE:GREGORIAN
METHOD:PUBLISH
X-WR-CALNAME:Vilino - Country House
X-ORIGINAL-URL:http://vilino.rs
X-WR-CALDESC:Events for Vilino - Country House
BEGIN:VTIMEZONE
TZID:Europe/Belgrade
BEGIN:DAYLIGHT
TZOFFSETFROM:+0100
TZOFFSETTO:+0200
TZNAME:CEST
DTSTART:20200329T010000
END:DAYLIGHT
BEGIN:STANDARD
TZOFFSETFROM:+0200
TZOFFSETTO:+0100
TZNAME:CET
DTSTART:20201025T010000
END:STANDARD
END:VTIMEZONE
BEGIN:VEVENT
DTSTART;VALUE=DATE:20200812
DTEND;VALUE=DATE:20200817
DTSTAMP:20260424T123909
CREATED:20200602T165233Z
LAST-MODIFIED:20200627T082705Z
UID:1976-1597190400-1597622399@vilino.rs
SUMMARY:Yoga retreat
DESCRIPTION:E-RYT 500 Yoga Teacher\, Sattva Yoga Private Classes\, Ayurvedic Beauty Therapist
URL:http://vilino.rs/event/yoga-retreat-2/
LOCATION:Vilino ESTATE\, Serbia
CATEGORIES:Yoga Retreat
END:VEVENT
END:VCALENDAR