BEGIN:VCALENDAR
VERSION:2.0
PRODID:-//Vilino - Country House - ECPv5.9.0//NONSGML v1.0//EN
CALSCALE:GREGORIAN
METHOD:PUBLISH
X-WR-CALNAME:Vilino - Country House
X-ORIGINAL-URL:http://vilino.rs
X-WR-CALDESC:Events for Vilino - Country House
BEGIN:VTIMEZONE
TZID:Europe/Belgrade
BEGIN:DAYLIGHT
TZOFFSETFROM:+0100
TZOFFSETTO:+0200
TZNAME:CEST
DTSTART:20200329T010000
END:DAYLIGHT
BEGIN:STANDARD
TZOFFSETFROM:+0200
TZOFFSETTO:+0100
TZNAME:CET
DTSTART:20201025T010000
END:STANDARD
END:VTIMEZONE
BEGIN:VEVENT
DTSTART;VALUE=DATE:20200825
DTEND;VALUE=DATE:20200901
DTSTAMP:20260424T085636
CREATED:20200627T092939Z
LAST-MODIFIED:20200627T093131Z
UID:2307-1598313600-1598918399@vilino.rs
SUMMARY:Retreat
DESCRIPTION:Zauzeto
URL:http://vilino.rs/event/private-gathering-6/
LOCATION:Vilino ESTATE\, Serbia
CATEGORIES:Retreat
END:VEVENT
END:VCALENDAR