BEGIN:VCALENDAR
VERSION:2.0
PRODID:-//Vilino - Country House - ECPv5.9.0//NONSGML v1.0//EN
CALSCALE:GREGORIAN
METHOD:PUBLISH
X-WR-CALNAME:Vilino - Country House
X-ORIGINAL-URL:http://vilino.rs
X-WR-CALDESC:Events for Vilino - Country House
BEGIN:VTIMEZONE
TZID:Europe/Belgrade
BEGIN:DAYLIGHT
TZOFFSETFROM:+0100
TZOFFSETTO:+0200
TZNAME:CEST
DTSTART:20200329T010000
END:DAYLIGHT
BEGIN:STANDARD
TZOFFSETFROM:+0200
TZOFFSETTO:+0100
TZNAME:CET
DTSTART:20201025T010000
END:STANDARD
END:VTIMEZONE
BEGIN:VEVENT
DTSTART;VALUE=DATE:20200805
DTEND;VALUE=DATE:20200809
DTSTAMP:20260424T104818
CREATED:20200627T081259Z
LAST-MODIFIED:20200629T190034Z
UID:2297-1596585600-1596931199@vilino.rs
SUMMARY:Private gathering
DESCRIPTION:Zauzeto
URL:http://vilino.rs/event/private-gathering-5/
LOCATION:Vilino ESTATE\, Serbia
CATEGORIES:Yoga Retreat
END:VEVENT
END:VCALENDAR