BEGIN:VCALENDAR
VERSION:2.0
PRODID:-//Vilino - Country House - ECPv5.9.0//NONSGML v1.0//EN
CALSCALE:GREGORIAN
METHOD:PUBLISH
X-WR-CALNAME:Vilino - Country House
X-ORIGINAL-URL:http://vilino.rs
X-WR-CALDESC:Events for Vilino - Country House
BEGIN:VTIMEZONE
TZID:Europe/Belgrade
BEGIN:DAYLIGHT
TZOFFSETFROM:+0100
TZOFFSETTO:+0200
TZNAME:CEST
DTSTART:20200329T010000
END:DAYLIGHT
BEGIN:STANDARD
TZOFFSETFROM:+0200
TZOFFSETTO:+0100
TZNAME:CET
DTSTART:20201025T010000
END:STANDARD
END:VTIMEZONE
BEGIN:VEVENT
DTSTART;VALUE=DATE:20200529
DTEND;VALUE=DATE:20200601
DTSTAMP:20260424T153144
CREATED:20200528T102717Z
LAST-MODIFIED:20200528T103028Z
UID:1952-1590710400-1590969599@vilino.rs
SUMMARY:NS - Birthday party
DESCRIPTION:Rodjendanska zurka!!
URL:http://vilino.rs/event/1952/
LOCATION:Vilino ESTATE\, Serbia
CATEGORIES:Celebration
ORGANIZER;CN="Stefan":MAILTO:sstefandante@gmail.com
END:VEVENT
END:VCALENDAR